BEGIN:VCALENDAR
VERSION:2.0
PRODID:icalendar-ruby
CALSCALE:GREGORIAN
METHOD:PUBLISH
BEGIN:VEVENT
DTSTAMP:20260420T162850Z
UID:91-27736@risenchurch.com
DTSTART:20261101T163000Z
DTEND:20261101T170000Z
CLASS:PUBLIC
CREATED:20260420T090348
DESCRIPTION:Every Sunday at 8:30AM\, we gather for 30 minutes of corporate 
 prayer before the service begins. This is a simple\, unhurried time to bri
 ng the morning before the Lord together\, praying for our church\, our cit
 y\, and the work of the gospel. Spurgeon said the prayer meeting is the th
 ermometer of the church. Come find out why. All are welcome\, and if Sunda
 y mornings are a way you want to serve RISEN without the heavy lifting\, t
 his is your place.
LAST-MODIFIED:20260420T090348
LOCATION:Olympic High School: Library
SUMMARY:Prayer Meeting
URL;VALUE=URI:https://risenchurch.com/events/prayer-meeting/2026-11-01
ATTACH;FILENAME=Prayer Meeting.jpg;FMTTYPE=image/jpeg:https://dq5pwpg1q8ru0
 .cloudfront.net/2026/03/03/19/50/20/45bb2aa4-2d48-4c6a-bc47-783c3ff2c4c4/P
 rayer%20Meeting.jpg
END:VEVENT
END:VCALENDAR
